BEGIN:VCALENDAR
VERSION:2.0
PRODID:-//ZSO nr 1 w Raciborzu - ECPv6.15.20//NONSGML v1.0//EN
CALSCALE:GREGORIAN
METHOD:PUBLISH
X-WR-CALNAME:ZSO nr 1 w Raciborzu
X-ORIGINAL-URL:https://zso1raciborz.pl
X-WR-CALDESC:Wydarzenia dla ZSO nr 1 w Raciborzu
REFRESH-INTERVAL;VALUE=DURATION:PT1H
X-Robots-Tag:noindex
X-PUBLISHED-TTL:PT1H
BEGIN:VTIMEZONE
TZID:Europe/Warsaw
BEGIN:DAYLIGHT
TZOFFSETFROM:+0100
TZOFFSETTO:+0200
TZNAME:CEST
DTSTART:20250330T010000
END:DAYLIGHT
BEGIN:STANDARD
TZOFFSETFROM:+0200
TZOFFSETTO:+0100
TZNAME:CET
DTSTART:20251026T010000
END:STANDARD
BEGIN:DAYLIGHT
TZOFFSETFROM:+0100
TZOFFSETTO:+0200
TZNAME:CEST
DTSTART:20260329T010000
END:DAYLIGHT
BEGIN:STANDARD
TZOFFSETFROM:+0200
TZOFFSETTO:+0100
TZNAME:CET
DTSTART:20261025T010000
END:STANDARD
BEGIN:DAYLIGHT
TZOFFSETFROM:+0100
TZOFFSETTO:+0200
TZNAME:CEST
DTSTART:20270328T010000
END:DAYLIGHT
BEGIN:STANDARD
TZOFFSETFROM:+0200
TZOFFSETTO:+0100
TZNAME:CET
DTSTART:20271031T010000
END:STANDARD
END:VTIMEZONE
BEGIN:VEVENT
DTSTART;TZID=Europe/Warsaw:20260420T160000
DTEND;TZID=Europe/Warsaw:20260420T180000
DTSTAMP:20260420T013410
CREATED:20260326T191458Z
LAST-MODIFIED:20260326T191458Z
UID:55963-1776700800-1776708000@zso1raciborz.pl
SUMMARY:Akademia Młodego Plastyka
DESCRIPTION:
URL:https://zso1raciborz.pl/kalendarz/akademia-mlodego-plastyka-3/
LOCATION:Śląskie
CATEGORIES:rekrutacja,warsztaty
END:VEVENT
END:VCALENDAR