BEGIN:VCALENDAR
VERSION:2.0
PRODID:-//ZSO nr 1 w Raciborzu - ECPv6.15.20//NONSGML v1.0//EN
CALSCALE:GREGORIAN
METHOD:PUBLISH
X-WR-CALNAME:ZSO nr 1 w Raciborzu
X-ORIGINAL-URL:https://zso1raciborz.pl
X-WR-CALDESC:Wydarzenia dla ZSO nr 1 w Raciborzu
REFRESH-INTERVAL;VALUE=DURATION:PT1H
X-Robots-Tag:noindex
X-PUBLISHED-TTL:PT1H
BEGIN:VTIMEZONE
TZID:Europe/Warsaw
BEGIN:DAYLIGHT
TZOFFSETFROM:+0100
TZOFFSETTO:+0200
TZNAME:CEST
DTSTART:20250330T010000
END:DAYLIGHT
BEGIN:STANDARD
TZOFFSETFROM:+0200
TZOFFSETTO:+0100
TZNAME:CET
DTSTART:20251026T010000
END:STANDARD
BEGIN:DAYLIGHT
TZOFFSETFROM:+0100
TZOFFSETTO:+0200
TZNAME:CEST
DTSTART:20260329T010000
END:DAYLIGHT
BEGIN:STANDARD
TZOFFSETFROM:+0200
TZOFFSETTO:+0100
TZNAME:CET
DTSTART:20261025T010000
END:STANDARD
BEGIN:DAYLIGHT
TZOFFSETFROM:+0100
TZOFFSETTO:+0200
TZNAME:CEST
DTSTART:20270328T010000
END:DAYLIGHT
BEGIN:STANDARD
TZOFFSETFROM:+0200
TZOFFSETTO:+0100
TZNAME:CET
DTSTART:20271031T010000
END:STANDARD
END:VTIMEZONE
BEGIN:VEVENT
DTSTART;TZID=Europe/Warsaw:20260525T160000
DTEND;TZID=Europe/Warsaw:20260525T170000
DTSTAMP:20260425T185425
CREATED:20260409T175339Z
LAST-MODIFIED:20260409T175339Z
UID:57709-1779724800-1779728400@zso1raciborz.pl
SUMMARY:Lekcja prowadzona dwujęzycznie dla kandydatów
DESCRIPTION:
URL:https://zso1raciborz.pl/kalendarz/lekcja-prowadzona-dwujezycznie-dla-kandydatow/
LOCATION:Śląskie
CATEGORIES:rekrutacja
END:VEVENT
BEGIN:VEVENT
DTSTART;TZID=Europe/Warsaw:20260525T170000
DTEND;TZID=Europe/Warsaw:20260525T180000
DTSTAMP:20260425T185425
CREATED:20260409T175434Z
LAST-MODIFIED:20260409T175434Z
UID:57711-1779728400-1779732000@zso1raciborz.pl
SUMMARY:Zebranie z kandydatami i ich rodzicami
DESCRIPTION:
URL:https://zso1raciborz.pl/kalendarz/zebranie-z-kandydatami-i-ich-rodzicami/
LOCATION:Śląskie
CATEGORIES:rekrutacja
END:VEVENT
BEGIN:VEVENT
DTSTART;VALUE=DATE:20260605
DTEND;VALUE=DATE:20260606
DTSTAMP:20260425T185425
CREATED:20260409T174505Z
LAST-MODIFIED:20260409T174505Z
UID:57703-1780617600-1780703999@zso1raciborz.pl
SUMMARY:Dodatkowy dzień wolny od zajęć dydaktyczno- wychowawczych
DESCRIPTION:
URL:https://zso1raciborz.pl/kalendarz/dodatkowy-dzien-wolny-od-zajec-dydaktyczno-wychowawczych/
LOCATION:Śląskie
END:VEVENT
BEGIN:VEVENT
DTSTART;TZID=Europe/Warsaw:20260609T080000
DTEND;TZID=Europe/Warsaw:20260609T140000
DTSTAMP:20260425T185425
CREATED:20260409T175738Z
LAST-MODIFIED:20260409T175738Z
UID:57713-1780992000-1781013600@zso1raciborz.pl
SUMMARY:Dla kandydatów do LSP - egzamin wstępny (sprawdzian uzdolnień kierunkowych)
DESCRIPTION:
URL:https://zso1raciborz.pl/kalendarz/dla-kandydatow-do-lsp-egzamin-wstepny-sprawdzian-uzdolnien-kierunkowych/
LOCATION:Śląskie
CATEGORIES:rekrutacja
END:VEVENT
BEGIN:VEVENT
DTSTART;TZID=Europe/Warsaw:20260610T140000
DTEND;TZID=Europe/Warsaw:20260610T150000
DTSTAMP:20260425T185425
CREATED:20260409T175043Z
LAST-MODIFIED:20260409T175819Z
UID:57705-1781100000-1781103600@zso1raciborz.pl
SUMMARY:Dla kandydatów do klasy dwujęzycznej - sprawdzian kompetencji językowych
DESCRIPTION:Sprawdzian kompetencji z języka angielskiego dla kandydatów do klasy dwujęzycznej
URL:https://zso1raciborz.pl/kalendarz/sprawdzian-kompetencji-jezykowych/
LOCATION:Śląskie
CATEGORIES:rekrutacja
END:VEVENT
BEGIN:VEVENT
DTSTART;TZID=Europe/Warsaw:20260626T080000
DTEND;TZID=Europe/Warsaw:20260626T100000
DTSTAMP:20260425T185425
CREATED:20260409T180020Z
LAST-MODIFIED:20260409T180020Z
UID:57716-1782460800-1782468000@zso1raciborz.pl
SUMMARY:Uroczyste zakończenie roku szkolnego
DESCRIPTION:
URL:https://zso1raciborz.pl/kalendarz/uroczyste-zakonczenie-roku-szkolnego/
LOCATION:ZSO nr 1\, Kasprowicza 11\, Racibórz\, Śląskie\, 47-400\, Polska
CATEGORIES:wydarzenie szkolne
END:VEVENT
END:VCALENDAR