BEGIN:VCALENDAR
VERSION:2.0
PRODID:-//ZSO nr 1 w Raciborzu - ECPv6.15.20//NONSGML v1.0//EN
CALSCALE:GREGORIAN
METHOD:PUBLISH
X-ORIGINAL-URL:https://zso1raciborz.pl
X-WR-CALDESC:Wydarzenia dla ZSO nr 1 w Raciborzu
REFRESH-INTERVAL;VALUE=DURATION:PT1H
X-Robots-Tag:noindex
X-PUBLISHED-TTL:PT1H
BEGIN:VTIMEZONE
TZID:Europe/Warsaw
BEGIN:DAYLIGHT
TZOFFSETFROM:+0100
TZOFFSETTO:+0200
TZNAME:CEST
DTSTART:20250330T010000
END:DAYLIGHT
BEGIN:STANDARD
TZOFFSETFROM:+0200
TZOFFSETTO:+0100
TZNAME:CET
DTSTART:20251026T010000
END:STANDARD
BEGIN:DAYLIGHT
TZOFFSETFROM:+0100
TZOFFSETTO:+0200
TZNAME:CEST
DTSTART:20260329T010000
END:DAYLIGHT
BEGIN:STANDARD
TZOFFSETFROM:+0200
TZOFFSETTO:+0100
TZNAME:CET
DTSTART:20261025T010000
END:STANDARD
BEGIN:DAYLIGHT
TZOFFSETFROM:+0100
TZOFFSETTO:+0200
TZNAME:CEST
DTSTART:20270328T010000
END:DAYLIGHT
BEGIN:STANDARD
TZOFFSETFROM:+0200
TZOFFSETTO:+0100
TZNAME:CET
DTSTART:20271031T010000
END:STANDARD
END:VTIMEZONE
BEGIN:VEVENT
DTSTART;VALUE=DATE:20260325
DTEND;VALUE=DATE:20260327
DTSTAMP:20260425T141402
CREATED:20260326T190118Z
LAST-MODIFIED:20260326T190118Z
UID:55947-1774396800-1774569599@zso1raciborz.pl
SUMMARY:DNI OTWARTE
DESCRIPTION:
URL:https://zso1raciborz.pl/kalendarz/dni-otwarte-3/
LOCATION:ZSO nr 1\, Kasprowicza 11\, Racibórz\, Śląskie\, 47-400\, Polska
CATEGORIES:akcja,wydarzenie szkolne
END:VEVENT
BEGIN:VEVENT
DTSTART;TZID=Europe/Warsaw:20260326T080000
DTEND;TZID=Europe/Warsaw:20260326T170000
DTSTAMP:20260425T141402
CREATED:20260326T190832Z
LAST-MODIFIED:20260326T190832Z
UID:55957-1774512000-1774544400@zso1raciborz.pl
SUMMARY:XXII Powiatowy Konkurs Języka Angielskiego
DESCRIPTION:
URL:https://zso1raciborz.pl/kalendarz/xxii-powiatowy-konkurs-jezyka-angielskiego/
LOCATION:Śląskie
CATEGORIES:konkurs
END:VEVENT
BEGIN:VEVENT
DTSTART;TZID=Europe/Warsaw:20260331T120000
DTEND;TZID=Europe/Warsaw:20260331T133000
DTSTAMP:20260425T141402
CREATED:20260326T190353Z
LAST-MODIFIED:20260326T190353Z
UID:55946-1774958400-1774963800@zso1raciborz.pl
SUMMARY:Spotkanie z prof. dr hab. n. med. Łukaszem Krakowczykiem
DESCRIPTION:
URL:https://zso1raciborz.pl/kalendarz/spotkanie-z-prof-dr-hab-n-med-lukaszem-krakowczykiem/
LOCATION:Aula ZSO nr 1\, Kasprowicza 11\, Racibórz\, śląskie\, 47-400\, Polska
CATEGORIES:absolwenci,SAiPILO
END:VEVENT
BEGIN:VEVENT
DTSTART;VALUE=DATE:20260402
DTEND;VALUE=DATE:20260408
DTSTAMP:20260425T141402
CREATED:20260326T190515Z
LAST-MODIFIED:20260326T190515Z
UID:55950-1775088000-1775606399@zso1raciborz.pl
SUMMARY:Wiosenna przerwa świąteczna
DESCRIPTION:
URL:https://zso1raciborz.pl/kalendarz/wiosenna-przerwa-swiateczna/
LOCATION:Śląskie
END:VEVENT
BEGIN:VEVENT
DTSTART;VALUE=DATE:20260402
DTEND;VALUE=DATE:20260404
DTSTAMP:20260425T141402
CREATED:20260331T135951Z
LAST-MODIFIED:20260331T140054Z
UID:56207-1775088000-1775260799@zso1raciborz.pl
SUMMARY:Szkoła zamknięta
DESCRIPTION:
URL:https://zso1raciborz.pl/kalendarz/szkola-zamknieta-2/
LOCATION:Śląskie
END:VEVENT
BEGIN:VEVENT
DTSTART;TZID=Europe/Warsaw:20260408T160000
DTEND;TZID=Europe/Warsaw:20260408T180000
DTSTAMP:20260425T141402
CREATED:20260326T191112Z
LAST-MODIFIED:20260326T191112Z
UID:55959-1775664000-1775671200@zso1raciborz.pl
SUMMARY:Akademia Młodego Plastyka
DESCRIPTION:
URL:https://zso1raciborz.pl/kalendarz/akademia-mlodego-plastyka/
LOCATION:Sala 208
CATEGORIES:rekrutacja,warsztaty
END:VEVENT
BEGIN:VEVENT
DTSTART;TZID=Europe/Warsaw:20260409T090000
DTEND;TZID=Europe/Warsaw:20260409T133000
DTSTAMP:20260425T141402
CREATED:20260211T200853Z
LAST-MODIFIED:20260212T220416Z
UID:55258-1775725200-1775741400@zso1raciborz.pl
SUMMARY:XXII Powiatowy Konkurs Języka Angielskiego „Tell Your Tale” – edycja kwiecień 2026
DESCRIPTION:„Tell Your Tale” – sprawdź swój angielski!\nZSO nr 1 w Raciborzu zaprasza uczniów klas VII i VIII do udziału w XXII Powiatowym Konkursie Języka Angielskiego.  \nEtap powiatowy odbędzie się 9 kwietnia 2026 r. Czekają: test językowy\, warsztaty i atrakcyjne nagrody! \n 
URL:https://zso1raciborz.pl/kalendarz/xxii-powiatowy-konkurs-jezyka-angielskiego-tell-your-tale-edycja-kwiecien-2026/
LOCATION:Aula ZSO nr 1\, Kasprowicza 11\, Racibórz\, śląskie\, 47-400\, Polska
ATTACH;FMTTYPE=image/png:https://zso1raciborz.pl/wp-content/uploads/2026/02/Tell-Your-Tale-Plakat-2026.png
END:VEVENT
BEGIN:VEVENT
DTSTART;TZID=Europe/Warsaw:20260413T160000
DTEND;TZID=Europe/Warsaw:20260413T180000
DTSTAMP:20260425T141402
CREATED:20260326T191236Z
LAST-MODIFIED:20260326T191236Z
UID:55961-1776096000-1776103200@zso1raciborz.pl
SUMMARY:Akademia Młodego Plastyka
DESCRIPTION:
URL:https://zso1raciborz.pl/kalendarz/akademia-mlodego-plastyka-2/
LOCATION:Śląskie
CATEGORIES:rekrutacja,warsztaty
END:VEVENT
BEGIN:VEVENT
DTSTART;TZID=Europe/Warsaw:20260415T080000
DTEND;TZID=Europe/Warsaw:20260417T170000
DTSTAMP:20260425T141402
CREATED:20260326T190605Z
LAST-MODIFIED:20260326T190605Z
UID:55952-1776240000-1776445200@zso1raciborz.pl
SUMMARY:Egzamin dyplomowy w Liceum Sztuk Plastycznych
DESCRIPTION:
URL:https://zso1raciborz.pl/kalendarz/egzamin-dyplomowy-w-liceum-sztuk-plastycznych-2/
LOCATION:Śląskie
CATEGORIES:egzamin
END:VEVENT
BEGIN:VEVENT
DTSTART;TZID=Europe/Warsaw:20260420T160000
DTEND;TZID=Europe/Warsaw:20260420T180000
DTSTAMP:20260425T141402
CREATED:20260326T191458Z
LAST-MODIFIED:20260326T191458Z
UID:55963-1776700800-1776708000@zso1raciborz.pl
SUMMARY:Akademia Młodego Plastyka
DESCRIPTION:
URL:https://zso1raciborz.pl/kalendarz/akademia-mlodego-plastyka-3/
LOCATION:Śląskie
CATEGORIES:rekrutacja,warsztaty
END:VEVENT
BEGIN:VEVENT
DTSTART;TZID=Europe/Warsaw:20260422T180000
DTEND;TZID=Europe/Warsaw:20260422T193000
DTSTAMP:20260425T141402
CREATED:20260421T211025Z
LAST-MODIFIED:20260421T211025Z
UID:58008-1776880800-1776886200@zso1raciborz.pl
SUMMARY:Wernisaż DYPLOMY 2026
DESCRIPTION:
URL:https://zso1raciborz.pl/kalendarz/wernisaz-dyplomy-2026/
LOCATION:Galeria GAWRA\, ul. Kasprowicza 12\, Racibórz\, Śląskie\, 47-400\, Polska
CATEGORIES:wernisaż
END:VEVENT
BEGIN:VEVENT
DTSTART;TZID=Europe/Warsaw:20260423T160000
DTEND;TZID=Europe/Warsaw:20260423T180000
DTSTAMP:20260425T141402
CREATED:20260326T191612Z
LAST-MODIFIED:20260326T191612Z
UID:55965-1776960000-1776967200@zso1raciborz.pl
SUMMARY:Akademia Młodego Plastyka
DESCRIPTION:
URL:https://zso1raciborz.pl/kalendarz/akademia-mlodego-plastyka-4/
LOCATION:Śląskie
CATEGORIES:rekrutacja,warsztaty
END:VEVENT
BEGIN:VEVENT
DTSTART;TZID=Europe/Warsaw:20260424T110000
DTEND;TZID=Europe/Warsaw:20260424T133000
DTSTAMP:20260425T141402
CREATED:20260326T190714Z
LAST-MODIFIED:20260326T190714Z
UID:55955-1777028400-1777037400@zso1raciborz.pl
SUMMARY:Pożegnanie klas maturalnych
DESCRIPTION:
URL:https://zso1raciborz.pl/kalendarz/pozegnanie-klas-maturalnych/
LOCATION:Państwowa Szkoła Muzyczna w Raciborzu\, Ul. Ogrodowa\, Racibórz
CATEGORIES:absolwenci,wydarzenie szkolne
END:VEVENT
BEGIN:VEVENT
DTSTART;TZID=Europe/Warsaw:20260427T160000
DTEND;TZID=Europe/Warsaw:20260427T170000
DTSTAMP:20260425T141402
CREATED:20260409T175217Z
LAST-MODIFIED:20260409T175217Z
UID:57707-1777305600-1777309200@zso1raciborz.pl
SUMMARY:Warsztaty dla kandydatów (przygotowanie do sprawdzianu kompetencji językowych)
DESCRIPTION:
URL:https://zso1raciborz.pl/kalendarz/warsztaty-dla-kandydatow-przygotowanie-do-sprawdzianu-kompetencji-jezykowych/
LOCATION:Śląskie
END:VEVENT
BEGIN:VEVENT
DTSTART;TZID=Europe/Warsaw:20260429T160000
DTEND;TZID=Europe/Warsaw:20260429T180000
DTSTAMP:20260425T141402
CREATED:20260326T191718Z
LAST-MODIFIED:20260326T191718Z
UID:55967-1777478400-1777485600@zso1raciborz.pl
SUMMARY:Akademia Młodego Plastyka
DESCRIPTION:
URL:https://zso1raciborz.pl/kalendarz/akademia-mlodego-plastyka-5/
LOCATION:Śląskie
CATEGORIES:rekrutacja,warsztaty
END:VEVENT
BEGIN:VEVENT
DTSTART;VALUE=DATE:20260504
DTEND;VALUE=DATE:20260508
DTSTAMP:20260425T141402
CREATED:20260409T174359Z
LAST-MODIFIED:20260409T174359Z
UID:57701-1777852800-1778198399@zso1raciborz.pl
SUMMARY:Dodatkowe dni wolne od zajęć dydaktyczno-wychowawczych
DESCRIPTION:04 maja 2026 r. (pisemny egzamin maturalny z języka polskiego pp)\n05 maja 2026 r. (pisemny egzamin maturalny z matematyk pp)\n06 maja 2026 r. (pisemny egzamin maturalny z języków obcych pp)\n07 maja 2026 r. (pisemny egzamin maturalny z języka angielskiego pr)
URL:https://zso1raciborz.pl/kalendarz/dodatkowe-dni-wolne-od-zajec-dydaktyczno-wychowawczych/
LOCATION:Śląskie
CATEGORIES:egzamin
END:VEVENT
BEGIN:VEVENT
DTSTART;TZID=Europe/Warsaw:20260525T160000
DTEND;TZID=Europe/Warsaw:20260525T170000
DTSTAMP:20260425T141402
CREATED:20260409T175339Z
LAST-MODIFIED:20260409T175339Z
UID:57709-1779724800-1779728400@zso1raciborz.pl
SUMMARY:Lekcja prowadzona dwujęzycznie dla kandydatów
DESCRIPTION:
URL:https://zso1raciborz.pl/kalendarz/lekcja-prowadzona-dwujezycznie-dla-kandydatow/
LOCATION:Śląskie
CATEGORIES:rekrutacja
END:VEVENT
BEGIN:VEVENT
DTSTART;TZID=Europe/Warsaw:20260525T170000
DTEND;TZID=Europe/Warsaw:20260525T180000
DTSTAMP:20260425T141402
CREATED:20260409T175434Z
LAST-MODIFIED:20260409T175434Z
UID:57711-1779728400-1779732000@zso1raciborz.pl
SUMMARY:Zebranie z kandydatami i ich rodzicami
DESCRIPTION:
URL:https://zso1raciborz.pl/kalendarz/zebranie-z-kandydatami-i-ich-rodzicami/
LOCATION:Śląskie
CATEGORIES:rekrutacja
END:VEVENT
BEGIN:VEVENT
DTSTART;VALUE=DATE:20260605
DTEND;VALUE=DATE:20260606
DTSTAMP:20260425T141402
CREATED:20260409T174505Z
LAST-MODIFIED:20260409T174505Z
UID:57703-1780617600-1780703999@zso1raciborz.pl
SUMMARY:Dodatkowy dzień wolny od zajęć dydaktyczno- wychowawczych
DESCRIPTION:
URL:https://zso1raciborz.pl/kalendarz/dodatkowy-dzien-wolny-od-zajec-dydaktyczno-wychowawczych/
LOCATION:Śląskie
END:VEVENT
BEGIN:VEVENT
DTSTART;TZID=Europe/Warsaw:20260609T080000
DTEND;TZID=Europe/Warsaw:20260609T140000
DTSTAMP:20260425T141402
CREATED:20260409T175738Z
LAST-MODIFIED:20260409T175738Z
UID:57713-1780992000-1781013600@zso1raciborz.pl
SUMMARY:Dla kandydatów do LSP - egzamin wstępny (sprawdzian uzdolnień kierunkowych)
DESCRIPTION:
URL:https://zso1raciborz.pl/kalendarz/dla-kandydatow-do-lsp-egzamin-wstepny-sprawdzian-uzdolnien-kierunkowych/
LOCATION:Śląskie
CATEGORIES:rekrutacja
END:VEVENT
BEGIN:VEVENT
DTSTART;TZID=Europe/Warsaw:20260610T140000
DTEND;TZID=Europe/Warsaw:20260610T150000
DTSTAMP:20260425T141402
CREATED:20260409T175043Z
LAST-MODIFIED:20260409T175819Z
UID:57705-1781100000-1781103600@zso1raciborz.pl
SUMMARY:Dla kandydatów do klasy dwujęzycznej - sprawdzian kompetencji językowych
DESCRIPTION:Sprawdzian kompetencji z języka angielskiego dla kandydatów do klasy dwujęzycznej
URL:https://zso1raciborz.pl/kalendarz/sprawdzian-kompetencji-jezykowych/
LOCATION:Śląskie
CATEGORIES:rekrutacja
END:VEVENT
BEGIN:VEVENT
DTSTART;TZID=Europe/Warsaw:20260626T080000
DTEND;TZID=Europe/Warsaw:20260626T100000
DTSTAMP:20260425T141402
CREATED:20260409T180020Z
LAST-MODIFIED:20260409T180020Z
UID:57716-1782460800-1782468000@zso1raciborz.pl
SUMMARY:Uroczyste zakończenie roku szkolnego
DESCRIPTION:
URL:https://zso1raciborz.pl/kalendarz/uroczyste-zakonczenie-roku-szkolnego/
LOCATION:ZSO nr 1\, Kasprowicza 11\, Racibórz\, Śląskie\, 47-400\, Polska
CATEGORIES:wydarzenie szkolne
END:VEVENT
END:VCALENDAR