BEGIN:VCALENDAR
VERSION:2.0
PRODID:-//ZSO nr 1 w Raciborzu - ECPv6.15.20//NONSGML v1.0//EN
CALSCALE:GREGORIAN
METHOD:PUBLISH
X-ORIGINAL-URL:https://zso1raciborz.pl
X-WR-CALDESC:Wydarzenia dla ZSO nr 1 w Raciborzu
REFRESH-INTERVAL;VALUE=DURATION:PT1H
X-Robots-Tag:noindex
X-PUBLISHED-TTL:PT1H
BEGIN:VTIMEZONE
TZID:Europe/Warsaw
BEGIN:DAYLIGHT
TZOFFSETFROM:+0100
TZOFFSETTO:+0200
TZNAME:CEST
DTSTART:20230326T010000
END:DAYLIGHT
BEGIN:STANDARD
TZOFFSETFROM:+0200
TZOFFSETTO:+0100
TZNAME:CET
DTSTART:20231029T010000
END:STANDARD
BEGIN:DAYLIGHT
TZOFFSETFROM:+0100
TZOFFSETTO:+0200
TZNAME:CEST
DTSTART:20240331T010000
END:DAYLIGHT
BEGIN:STANDARD
TZOFFSETFROM:+0200
TZOFFSETTO:+0100
TZNAME:CET
DTSTART:20241027T010000
END:STANDARD
BEGIN:DAYLIGHT
TZOFFSETFROM:+0100
TZOFFSETTO:+0200
TZNAME:CEST
DTSTART:20250330T010000
END:DAYLIGHT
BEGIN:STANDARD
TZOFFSETFROM:+0200
TZOFFSETTO:+0100
TZNAME:CET
DTSTART:20251026T010000
END:STANDARD
BEGIN:DAYLIGHT
TZOFFSETFROM:+0100
TZOFFSETTO:+0200
TZNAME:CEST
DTSTART:20260329T010000
END:DAYLIGHT
BEGIN:STANDARD
TZOFFSETFROM:+0200
TZOFFSETTO:+0100
TZNAME:CET
DTSTART:20261025T010000
END:STANDARD
END:VTIMEZONE
BEGIN:VEVENT
DTSTART;TZID=Europe/Warsaw:20250513T153000
DTEND;TZID=Europe/Warsaw:20250513T173000
DTSTAMP:20260425T153709
CREATED:20250228T203711Z
LAST-MODIFIED:20250228T203711Z
UID:47827-1747150200-1747157400@zso1raciborz.pl
SUMMARY:Kurs przygotowawczy do LSP - prezentacja specjalizacji
DESCRIPTION:
URL:https://zso1raciborz.pl/kalendarz/kurs-przygotowawczy-do-lsp-prezentacja-specjalizacji/
LOCATION:śląskie
CATEGORIES:rekrutacja
ATTACH;FMTTYPE=image/png:https://zso1raciborz.pl/wp-content/uploads/2025/02/kurs-przygotowawczy2025-1.png
END:VEVENT
BEGIN:VEVENT
DTSTART;TZID=Europe/Warsaw:20250411T080000
DTEND;TZID=Europe/Warsaw:20250411T170000
DTSTAMP:20260425T153709
CREATED:20250228T204335Z
LAST-MODIFIED:20250228T204335Z
UID:47833-1744358400-1744390800@zso1raciborz.pl
SUMMARY:Jubileuszowy  XV Powiatowy Konkurs Wiedzy o Społeczeństwie Historia - Samorząd - Prawo dla uczniów klasy VIII szkoły podstawowej
DESCRIPTION:
URL:https://zso1raciborz.pl/kalendarz/jubileuszowy-xv-powiatowy-konkurs-wiedzy-o-spoleczenstwie-historia-samorzad-prawo-dla-uczniow-klasy-viii-szkoly-podstawowej/
LOCATION:śląskie
CATEGORIES:konkurs
END:VEVENT
BEGIN:VEVENT
DTSTART;TZID=Europe/Warsaw:20250403T090000
DTEND;TZID=Europe/Warsaw:20250403T140000
DTSTAMP:20260425T153709
CREATED:20250228T203959Z
LAST-MODIFIED:20250228T203959Z
UID:47829-1743670800-1743688800@zso1raciborz.pl
SUMMARY:II Powiatowy Konkurs Języka Angielskiego  “Tell Your Tale”
DESCRIPTION:
URL:https://zso1raciborz.pl/kalendarz/ii-powiatowy-konkurs-jezyka-angielskiego-tell-your-tale/
LOCATION:śląskie
CATEGORIES:konkurs
ATTACH;FMTTYPE=image/png:https://zso1raciborz.pl/wp-content/uploads/2025/01/logo_tell_your_tale_white.png
END:VEVENT
BEGIN:VEVENT
DTSTART;TZID=Europe/Warsaw:20250331T153000
DTEND;TZID=Europe/Warsaw:20250331T173000
DTSTAMP:20260425T153709
CREATED:20250228T203516Z
LAST-MODIFIED:20250228T205231Z
UID:47825-1743435000-1743442200@zso1raciborz.pl
SUMMARY:Kurs przygotowawczy do LSP
DESCRIPTION:
URL:https://zso1raciborz.pl/kalendarz/kurs-przygotowawczy-do-lsp-2/
LOCATION:Sala 10 (parter)\, ul. Jana Kasprowicza 11\, Racibórz\, śląskie\, 47-400\, Polska
CATEGORIES:rekrutacja
ATTACH;FMTTYPE=image/png:https://zso1raciborz.pl/wp-content/uploads/2025/02/kurs-przygotowawczy2025-1.png
END:VEVENT
BEGIN:VEVENT
DTSTART;TZID=Europe/Warsaw:20250327T080000
DTEND;TZID=Europe/Warsaw:20250329T130000
DTSTAMP:20260425T153709
CREATED:20250228T203131Z
LAST-MODIFIED:20250228T205149Z
UID:47821-1743062400-1743253200@zso1raciborz.pl
SUMMARY:Dni Otwarte w ZSO nr 1
DESCRIPTION:
URL:https://zso1raciborz.pl/kalendarz/dni-otwarte-w-zso-nr-1/
LOCATION:ZSO nr 1\, Kasprowicza 11\, Racibórz\, Śląskie\, 47-400\, Polska
CATEGORIES:rekrutacja
ATTACH;FMTTYPE=image/png:https://zso1raciborz.pl/wp-content/uploads/2025/02/dni_otwarte_2025.png
END:VEVENT
BEGIN:VEVENT
DTSTART;TZID=Europe/Warsaw:20250317T080000
DTEND;TZID=Europe/Warsaw:20250317T170000
DTSTAMP:20260425T153709
CREATED:20250228T204112Z
LAST-MODIFIED:20250228T204112Z
UID:47831-1742198400-1742230800@zso1raciborz.pl
SUMMARY:Dzień Świętego Patryka
DESCRIPTION:
URL:https://zso1raciborz.pl/kalendarz/dzien-swietego-patryka/
LOCATION:śląskie
CATEGORIES:akcja
ATTACH;FMTTYPE=image/jpeg:https://zso1raciborz.pl/wp-content/uploads/2024/03/Dzien_sw_Patryka_2024-10.jpeg
END:VEVENT
BEGIN:VEVENT
DTSTART;VALUE=DATE:20250312
DTEND;VALUE=DATE:20250313
DTSTAMP:20260425T153709
CREATED:20250307T082740Z
LAST-MODIFIED:20250307T082740Z
UID:47955-1741737600-1741823999@zso1raciborz.pl
SUMMARY:Spotkanie z absolwentką
DESCRIPTION:
URL:https://zso1raciborz.pl/kalendarz/spotkanie-z-absolwentka/
LOCATION:Aula ZSO nr 1\, Kasprowicza 11\, Racibórz\, śląskie\, 47-400\, Polska
ATTACH;FMTTYPE=image/jpeg:https://zso1raciborz.pl/wp-content/uploads/2025/03/IMG_20250306_123338_edit_1487090764858495-scaled.jpg
END:VEVENT
BEGIN:VEVENT
DTSTART;VALUE=DATE:20250308
DTEND;VALUE=DATE:20250316
DTSTAMP:20260425T153709
CREATED:20250228T202839Z
LAST-MODIFIED:20250228T202839Z
UID:47819-1741392000-1742083199@zso1raciborz.pl
SUMMARY:ERASMUS+ Mobilność do Turcji (Stambuł)
DESCRIPTION:Mobilność w ramach projektu “Woman can do it”
URL:https://zso1raciborz.pl/kalendarz/erasmus-mobilnosc-do-turcji-stambul/
LOCATION:śląskie
CATEGORIES:projekt,współpraca
ATTACH;FMTTYPE=image/png:https://zso1raciborz.pl/wp-content/uploads/2023/11/Woman-can-do-it_png-1.png
END:VEVENT
BEGIN:VEVENT
DTSTART;TZID=Europe/Warsaw:20250304T153000
DTEND;TZID=Europe/Warsaw:20250304T173000
DTSTAMP:20260425T153709
CREATED:20250228T203345Z
LAST-MODIFIED:20250228T205351Z
UID:47823-1741102200-1741109400@zso1raciborz.pl
SUMMARY:Kurs przygotowawczy do LSP
DESCRIPTION:
URL:https://zso1raciborz.pl/kalendarz/kurs-przygotowawczy-do-lsp/
LOCATION:Sala 208
CATEGORIES:rekrutacja
ATTACH;FMTTYPE=image/png:https://zso1raciborz.pl/wp-content/uploads/2025/02/kurs-przygotowawczy2025-1.png
END:VEVENT
BEGIN:VEVENT
DTSTART;TZID=Europe/Warsaw:20250304T120000
DTEND;TZID=Europe/Warsaw:20250304T140000
DTSTAMP:20260425T153709
CREATED:20250228T201825Z
LAST-MODIFIED:20250228T201825Z
UID:47815-1741089600-1741096800@zso1raciborz.pl
SUMMARY:Próbny egzamin DELF A2 - klasa 2JF
DESCRIPTION:
URL:https://zso1raciborz.pl/kalendarz/probny-egzamin-delf-a2-klasa-2jf/
LOCATION:śląskie
CATEGORIES:egzamin
ATTACH;FMTTYPE=image/jpeg:https://zso1raciborz.pl/wp-content/uploads/2024/03/logo-delf.jpg
END:VEVENT
BEGIN:VEVENT
DTSTART;TZID=Europe/Warsaw:20250301T080000
DTEND;TZID=Europe/Warsaw:20250301T170000
DTSTAMP:20260425T153709
CREATED:20250228T202521Z
LAST-MODIFIED:20250228T202521Z
UID:47817-1740816000-1740848400@zso1raciborz.pl
SUMMARY:Egzamin DELF A2 i DELF B1
DESCRIPTION:
URL:https://zso1raciborz.pl/kalendarz/egzamin-delf-a2-i-delf-b1/
LOCATION:śląskie
ATTACH;FMTTYPE=image/jpeg:https://zso1raciborz.pl/wp-content/uploads/2023/05/DELF.jpg
END:VEVENT
BEGIN:VEVENT
DTSTART;VALUE=DATE:20250223
DTEND;VALUE=DATE:20250224
DTSTAMP:20260425T153709
CREATED:20241007T150029Z
LAST-MODIFIED:20241007T150029Z
UID:37255-1740268800-1740355199@zso1raciborz.pl
SUMMARY:Światowy Dzień Walki z Depresją
DESCRIPTION:
URL:https://zso1raciborz.pl/kalendarz/swiatowy-dzien-walki-z-depresja/
LOCATION:śląskie
END:VEVENT
BEGIN:VEVENT
DTSTART;VALUE=DATE:20250217
DTEND;VALUE=DATE:20250303
DTSTAMP:20260425T153709
CREATED:20241202T212655Z
LAST-MODIFIED:20241202T212655Z
UID:39744-1739750400-1740959999@zso1raciborz.pl
SUMMARY:⛷Ferie zimowe☃️
DESCRIPTION:
URL:https://zso1raciborz.pl/kalendarz/%e2%9b%b7ferie-zimowe%e2%98%83%ef%b8%8f/
LOCATION:śląskie
END:VEVENT
BEGIN:VEVENT
DTSTART;TZID=Europe/Warsaw:20250123T100000
DTEND;TZID=Europe/Warsaw:20250123T120000
DTSTAMP:20260425T153709
CREATED:20241202T205936Z
LAST-MODIFIED:20241202T205936Z
UID:39730-1737626400-1737633600@zso1raciborz.pl
SUMMARY:Spotkanie z przedstawicielką Campus France
DESCRIPTION:https://www.pologne.campusfrance.org/pl
URL:https://zso1raciborz.pl/kalendarz/spotkanie-z-przedstawicielka-campus-france/
LOCATION:śląskie
END:VEVENT
BEGIN:VEVENT
DTSTART;VALUE=DATE:20241220
DTEND;VALUE=DATE:20241221
DTSTAMP:20260425T153709
CREATED:20241202T205715Z
LAST-MODIFIED:20241202T205715Z
UID:39728-1734652800-1734739199@zso1raciborz.pl
SUMMARY:🎄Jasełka i klasowe wigilie
DESCRIPTION:
URL:https://zso1raciborz.pl/kalendarz/%f0%9f%8e%84jaselka-i-klasowe-wigilie/
LOCATION:śląskie
END:VEVENT
BEGIN:VEVENT
DTSTART;TZID=Europe/Warsaw:20241218T080000
DTEND;TZID=Europe/Warsaw:20241218T170000
DTSTAMP:20260425T153709
CREATED:20241202T205437Z
LAST-MODIFIED:20241202T210612Z
UID:39723-1734508800-1734541200@zso1raciborz.pl
SUMMARY:♠️♥️ Turniej karciany - I tura ♦️♣️
DESCRIPTION:
URL:https://zso1raciborz.pl/kalendarz/%e2%99%a5%ef%b8%8f%e2%99%a6%ef%b8%8fturniej-karciany-i-tura%e2%99%a3%ef%b8%8f%e2%99%a0%ef%b8%8f/
LOCATION:śląskie
CATEGORIES:turniej
ATTACH;FMTTYPE=image/png:https://zso1raciborz.pl/wp-content/uploads/2024/12/Turniej-karciany-2.png
END:VEVENT
BEGIN:VEVENT
DTSTART;VALUE=DATE:20241217
DTEND;VALUE=DATE:20241218
DTSTAMP:20260425T153709
CREATED:20241202T205035Z
LAST-MODIFIED:20241202T205035Z
UID:39721-1734393600-1734479999@zso1raciborz.pl
SUMMARY:🎅Mikołajkowy Szkolny Konkurs Szachowy♟️
DESCRIPTION:
URL:https://zso1raciborz.pl/kalendarz/%f0%9f%8e%85mikolajkowy-szkolny-konkurs-szachowy%e2%99%9f%ef%b8%8f/
LOCATION:śląskie
CATEGORIES:konkurs
END:VEVENT
BEGIN:VEVENT
DTSTART;TZID=Europe/Warsaw:20241216T170000
DTEND;TZID=Europe/Warsaw:20241216T180000
DTSTAMP:20260425T153709
CREATED:20241107T202801Z
LAST-MODIFIED:20241107T202801Z
UID:38135-1734368400-1734372000@zso1raciborz.pl
SUMMARY:Spotkania z wychowawcami klas
DESCRIPTION:
URL:https://zso1raciborz.pl/kalendarz/spotkania-z-wychowawcami-klas/
LOCATION:ZSO nr 1\, Kasprowicza 11\, Racibórz\, Śląskie\, 47-400\, Polska
CATEGORIES:zebranie
END:VEVENT
BEGIN:VEVENT
DTSTART;TZID=Europe/Warsaw:20241216T150000
DTEND;TZID=Europe/Warsaw:20241216T190000
DTSTAMP:20260425T153709
CREATED:20241029T164637Z
LAST-MODIFIED:20241204T090212Z
UID:37786-1734361200-1734375600@zso1raciborz.pl
SUMMARY:🎄❄️🦌Kiermasz świąteczny🎁
DESCRIPTION:
URL:https://zso1raciborz.pl/kalendarz/kiermasz-swiateczny/
LOCATION:śląskie
CATEGORIES:akcja
ATTACH;FMTTYPE=image/jpeg:https://zso1raciborz.pl/wp-content/uploads/2024/10/Kiermasz_ZSO1_2024.jpeg
END:VEVENT
BEGIN:VEVENT
DTSTART;TZID=Europe/Warsaw:20241216T080000
DTEND;TZID=Europe/Warsaw:20241217T170000
DTSTAMP:20260425T153709
CREATED:20241202T210932Z
LAST-MODIFIED:20241202T210932Z
UID:39737-1734336000-1734454800@zso1raciborz.pl
SUMMARY:Próbny egzamin maturalny CKE✒️
DESCRIPTION:
URL:https://zso1raciborz.pl/kalendarz/probny-egzamin-maturalny-cke%e2%9c%92%ef%b8%8f-3/
LOCATION:śląskie
CATEGORIES:egzamin
ORGANIZER;CN="Dyrektor ZSO Nr 1":MAILTO:lo1@raciborz.com.pl
END:VEVENT
BEGIN:VEVENT
DTSTART;VALUE=DATE:20241213
DTEND;VALUE=DATE:20241214
DTSTAMP:20260425T153709
CREATED:20241202T204813Z
LAST-MODIFIED:20241202T204813Z
UID:39719-1734048000-1734134399@zso1raciborz.pl
SUMMARY:Wycieczka przedmiotowa z języka niemieckiego do Drezna
DESCRIPTION:
URL:https://zso1raciborz.pl/kalendarz/wycieczka-przedmiotowa-z-jezyka-niemieckiego-do-drezna/
LOCATION:śląskie
CATEGORIES:wycieczka
END:VEVENT
BEGIN:VEVENT
DTSTART;VALUE=DATE:20241213
DTEND;VALUE=DATE:20241214
DTSTAMP:20260425T153709
CREATED:20241202T204721Z
LAST-MODIFIED:20241202T204721Z
UID:39717-1734048000-1734134399@zso1raciborz.pl
SUMMARY:Wycieczka klasowa do Wrocławia - 3B
DESCRIPTION:
URL:https://zso1raciborz.pl/kalendarz/wycieczka-klasowa-do-wroclawia-3b/
LOCATION:śląskie
CATEGORIES:wycieczka
END:VEVENT
BEGIN:VEVENT
DTSTART;VALUE=DATE:20241212
DTEND;VALUE=DATE:20241213
DTSTAMP:20260425T153709
CREATED:20241029T164551Z
LAST-MODIFIED:20241029T164551Z
UID:37784-1733961600-1734047999@zso1raciborz.pl
SUMMARY:Święto Patrona
DESCRIPTION:
URL:https://zso1raciborz.pl/kalendarz/swieto-patrona/
LOCATION:ZSO nr 1\, Kasprowicza 11\, Racibórz\, Śląskie\, 47-400\, Polska
END:VEVENT
BEGIN:VEVENT
DTSTART;TZID=Europe/Warsaw:20241210T080000
DTEND;TZID=Europe/Warsaw:20241214T170000
DTSTAMP:20260425T153709
CREATED:20241029T164830Z
LAST-MODIFIED:20241029T164830Z
UID:37789-1733817600-1734195600@zso1raciborz.pl
SUMMARY:Obóz Językowy EuroWeek
DESCRIPTION:
URL:https://zso1raciborz.pl/kalendarz/oboz-jezykowy-euroweek-2/
LOCATION:śląskie
CATEGORIES:warsztaty
END:VEVENT
BEGIN:VEVENT
DTSTART;TZID=Europe/Warsaw:20241209T080000
DTEND;TZID=Europe/Warsaw:20241213T170000
DTSTAMP:20260425T153709
CREATED:20241202T210853Z
LAST-MODIFIED:20241202T210853Z
UID:39735-1733731200-1734109200@zso1raciborz.pl
SUMMARY:Próbny egzamin maturalny CKE✒️
DESCRIPTION:
URL:https://zso1raciborz.pl/kalendarz/probny-egzamin-maturalny-cke%e2%9c%92%ef%b8%8f-2/
LOCATION:śląskie
CATEGORIES:egzamin
ORGANIZER;CN="Dyrektor ZSO Nr 1":MAILTO:lo1@raciborz.com.pl
END:VEVENT
BEGIN:VEVENT
DTSTART;VALUE=DATE:20241209
DTEND;VALUE=DATE:20241210
DTSTAMP:20260425T153709
CREATED:20241202T204517Z
LAST-MODIFIED:20241203T213819Z
UID:39715-1733702400-1733788799@zso1raciborz.pl
SUMMARY:Spotkanie z Absolwentami
DESCRIPTION: 
URL:https://zso1raciborz.pl/kalendarz/spotkanie-z-absolwentem-2/
LOCATION:śląskie
CATEGORIES:absolwenci,SAiPILO
ATTACH;FMTTYPE=image/png:https://zso1raciborz.pl/wp-content/uploads/2024/12/spotkanie-z-absolwentem-logo.png
END:VEVENT
BEGIN:VEVENT
DTSTART;VALUE=DATE:20241206
DTEND;VALUE=DATE:20241207
DTSTAMP:20260425T153709
CREATED:20241202T203847Z
LAST-MODIFIED:20241203T150324Z
UID:39713-1733443200-1733529599@zso1raciborz.pl
SUMMARY:Mikołajki🎅
DESCRIPTION:
URL:https://zso1raciborz.pl/kalendarz/mikolajki%f0%9f%8e%85/
LOCATION:śląskie
CATEGORIES:akcja
ATTACH;FMTTYPE=image/jpeg:https://zso1raciborz.pl/wp-content/uploads/2024/12/Zapowiedz_Mikolajki_2024-1.jpg
END:VEVENT
BEGIN:VEVENT
DTSTART;TZID=Europe/Warsaw:20241205T090000
DTEND;TZID=Europe/Warsaw:20241206T170000
DTSTAMP:20260425T153709
CREATED:20241202T210519Z
LAST-MODIFIED:20241202T210803Z
UID:39732-1733389200-1733504400@zso1raciborz.pl
SUMMARY:Próbny egzamin maturalny CKE✒️
DESCRIPTION:
URL:https://zso1raciborz.pl/kalendarz/probny-egzamin-maturalny-cke%e2%9c%92%ef%b8%8f/
LOCATION:śląskie
CATEGORIES:egzamin
ORGANIZER;CN="Dyrektor ZSO Nr 1":MAILTO:lo1@raciborz.com.pl
END:VEVENT
BEGIN:VEVENT
DTSTART;VALUE=DATE:20241205
DTEND;VALUE=DATE:20241206
DTSTAMP:20260425T153709
CREATED:20241202T203714Z
LAST-MODIFIED:20241202T203714Z
UID:39711-1733356800-1733443199@zso1raciborz.pl
SUMMARY:Wycieczka klasowa do Wrocławia - 3MD
DESCRIPTION:
URL:https://zso1raciborz.pl/kalendarz/wycieczka-klasowa-do-wroclawia-3md/
LOCATION:śląskie
CATEGORIES:wycieczka
END:VEVENT
BEGIN:VEVENT
DTSTART;VALUE=DATE:20241125
DTEND;VALUE=DATE:20241126
DTSTAMP:20260425T153709
CREATED:20241120T162908Z
LAST-MODIFIED:20241120T162908Z
UID:39122-1732492800-1732579199@zso1raciborz.pl
SUMMARY:Wycieczka edukacyjna do Krakowa
DESCRIPTION:Dla uczniów klas z rozszerzonym programem z geografii. \nW programie: \n –  Zajęcia na Uniwersytecie Jagiellońskim \n – Spektakl  “Fortissimo”
URL:https://zso1raciborz.pl/kalendarz/wycieczka-edukacyjna-do-krakowa/
LOCATION:Uniwersytet Jagielloński
CATEGORIES:warsztaty,współpraca,wycieczka
END:VEVENT
END:VCALENDAR