BEGIN:VCALENDAR
VERSION:2.0
PRODID:-//ZSO nr 1 w Raciborzu - ECPv6.15.20//NONSGML v1.0//EN
CALSCALE:GREGORIAN
METHOD:PUBLISH
X-ORIGINAL-URL:https://zso1raciborz.pl
X-WR-CALDESC:Wydarzenia dla ZSO nr 1 w Raciborzu
REFRESH-INTERVAL;VALUE=DURATION:PT1H
X-Robots-Tag:noindex
X-PUBLISHED-TTL:PT1H
BEGIN:VTIMEZONE
TZID:Europe/Warsaw
BEGIN:DAYLIGHT
TZOFFSETFROM:+0100
TZOFFSETTO:+0200
TZNAME:CEST
DTSTART:20210328T010000
END:DAYLIGHT
BEGIN:STANDARD
TZOFFSETFROM:+0200
TZOFFSETTO:+0100
TZNAME:CET
DTSTART:20211031T010000
END:STANDARD
BEGIN:DAYLIGHT
TZOFFSETFROM:+0100
TZOFFSETTO:+0200
TZNAME:CEST
DTSTART:20220327T010000
END:DAYLIGHT
BEGIN:STANDARD
TZOFFSETFROM:+0200
TZOFFSETTO:+0100
TZNAME:CET
DTSTART:20221030T010000
END:STANDARD
BEGIN:DAYLIGHT
TZOFFSETFROM:+0100
TZOFFSETTO:+0200
TZNAME:CEST
DTSTART:20230326T010000
END:DAYLIGHT
BEGIN:STANDARD
TZOFFSETFROM:+0200
TZOFFSETTO:+0100
TZNAME:CET
DTSTART:20231029T010000
END:STANDARD
END:VTIMEZONE
BEGIN:VEVENT
DTSTART;TZID=Europe/Warsaw:20220426T153000
DTEND;TZID=Europe/Warsaw:20220426T170000
DTSTAMP:20260423T084820
CREATED:20220413T083010Z
LAST-MODIFIED:20220413T083010Z
UID:23295-1650987000-1650992400@zso1raciborz.pl
SUMMARY:Warsztaty radzenia sobie ze stresem
DESCRIPTION:Pani pedagog Ewa Teodorowicz-Tomaszek organizuje dla chętnych uczniów “Warsztaty radzenia sobie ze stresem”. Zajęcia odbędą się we wtorek 26 kwietnia 2022 roku o godzinie 15:30 w sali 208. Obowiązują wcześniejsze zapisy: https://forms.gle/oMGHpdr1RwczMfuk9 \nGorąco zachęcamy do uczestnictwa w warsztatach. \nhttps://zso1raciborz.pl/wp-content/uploads/2022/04/Warsztaty-1.mp4
URL:https://zso1raciborz.pl/kalendarz/warsztaty-radzenia-sobie-ze-stresem/
LOCATION:Sala 208
ATTACH;FMTTYPE=image/png:https://zso1raciborz.pl/wp-content/uploads/2022/04/Warsztaty-wyróżniające.png
ORGANIZER;CN="Pedagog":MAILTO:e.teodorowicztomaszek@zso1raciborz.pl
END:VEVENT
END:VCALENDAR